BEGIN:VCALENDAR
VERSION:2.0
PRODID:-//hacksw/handcal//NONSGML v1.0//EN
CALSCALE:GREGORIAN
BEGIN:VEVENT
SUMMARY:Die Schatzsuche im Blaumeisental
DTSTART:20260411T095000Z
DTEND:20260411T113700Z
GEO:51.08285;13.69562
LOCATION:UCI-Kinowelt\, Lommatzscher Straße 82\, Elbepark\, 01139 Dresden-Mickten
DESCRIPTION:
URL;VALUE=URI:http://www.public.kika-dresden.de/termin1597054.html
DTSTAMP:20260423T085933Z
UID:69e9df753e406
END:VEVENT
END:VCALENDAR