BEGIN:VCALENDAR
VERSION:2.0
PRODID:-//hacksw/handcal//NONSGML v1.0//EN
CALSCALE:GREGORIAN
BEGIN:VEVENT
SUMMARY:Die Schatzsuche im Blaumeisental
DTSTART:20260408T123000Z
DTEND:20260408T141700Z
GEO:51.07124;13.75051
LOCATION:Filmtheater Schauburg\, Königsbrücker Straße 55\, 01099 Dresden
DESCRIPTION:
URL;VALUE=URI:http://www.public.kika-dresden.de/termin1596569.html
DTSTAMP:20260424T033255Z
UID:69eae46711b74
END:VEVENT
END:VCALENDAR