BEGIN:VCALENDAR
VERSION:2.0
PRODID:-//hacksw/handcal//NONSGML v1.0//EN
CALSCALE:GREGORIAN
BEGIN:VEVENT
SUMMARY:Triegel trifft Cranach - Malen im Widerstreit der Zeiten
DTSTART:20260403T093000Z
DTEND:20260403T114700Z
GEO:51.07124;13.75051
LOCATION:Filmtheater Schauburg\, Königsbrücker Straße 55\, 01099 Dresden
DESCRIPTION:
URL;VALUE=URI:http://www.public.kika-dresden.de/termin1596295.html
DTSTAMP:20260425T182024Z
UID:69ed05e8b9560
END:VEVENT
END:VCALENDAR