BEGIN:VCALENDAR
VERSION:2.0
PRODID:-//hacksw/handcal//NONSGML v1.0//EN
CALSCALE:GREGORIAN
BEGIN:VEVENT
SUMMARY:Blue Moon
DTSTART:20260401T161500Z
DTEND:20260401T182600Z
GEO:51.07124;13.75051
LOCATION:Filmtheater Schauburg\, Königsbrücker Straße 55\, 01099 Dresden
DESCRIPTION:
URL;VALUE=URI:http://www.public.kika-dresden.de/termin1595732.html
DTSTAMP:20260422T125704Z
UID:69e8c5a0eaf88
END:VEVENT
END:VCALENDAR