BEGIN:VCALENDAR
VERSION:2.0
PRODID:-//hacksw/handcal//NONSGML v1.0//EN
CALSCALE:GREGORIAN
BEGIN:VEVENT
SUMMARY:Bring Me The Horizon: L.I.V.E. in São Paulo 
DTSTART:20260328T161500Z
GEO:51.08285;13.69562
LOCATION:UCI-Kinowelt\, Lommatzscher Straße 82\, Elbepark\, 01139 Dresden-Mickten
DESCRIPTION:
URL;VALUE=URI:http://www.public.kika-dresden.de/termin1594019.html
DTSTAMP:20260420T170837Z
UID:69e65d95ec02f
END:VEVENT
END:VCALENDAR