BEGIN:VCALENDAR
VERSION:2.0
PRODID:-//hacksw/handcal//NONSGML v1.0//EN
CALSCALE:GREGORIAN
BEGIN:VEVENT
SUMMARY:Whistle
DTSTART:20260506T180000Z
DTEND:20260506T200700Z
GEO:51.04487;13.73697
LOCATION:Rundkino Dresden\, Prager Straße 6\, 01069 Dresden
DESCRIPTION:
URL;VALUE=URI:http://www.public.kika-dresden.de/termin1593638.html
DTSTAMP:20260422T014332Z
UID:69e827c4b0548
END:VEVENT
END:VCALENDAR