BEGIN:VCALENDAR
VERSION:2.0
PRODID:-//hacksw/handcal//NONSGML v1.0//EN
CALSCALE:GREGORIAN
BEGIN:VEVENT
SUMMARY:Allegro Pastell
DTSTART:20260422T180000Z
DTEND:20260422T201000Z
GEO:51.06687;13.75428
LOCATION:Thalia\, Görlitzer Str. 6\, 01099 Dresden-Neustadt
DESCRIPTION:
URL;VALUE=URI:http://www.public.kika-dresden.de/termin1590104.html
DTSTAMP:20260420T084917Z
UID:69e5e88d87368
END:VEVENT
END:VCALENDAR