BEGIN:VCALENDAR
VERSION:2.0
PRODID:-//hacksw/handcal//NONSGML v1.0//EN
CALSCALE:GREGORIAN
BEGIN:VEVENT
SUMMARY:Extrawurst
DTSTART:20260228T193000Z
DTEND:20260228T213800Z
GEO:51.05182;13.80533
LOCATION:CinemaxX\, Hüblerstr. 8\, 01309 Dresden
DESCRIPTION:
URL;VALUE=URI:http://www.public.kika-dresden.de/termin1588016.html
DTSTAMP:20260420T200114Z
UID:69e6860a62b1e
END:VEVENT
END:VCALENDAR