BEGIN:VCALENDAR
VERSION:2.0
PRODID:-//hacksw/handcal//NONSGML v1.0//EN
CALSCALE:GREGORIAN
BEGIN:VEVENT
SUMMARY:Ein fast perfekter Antrag
DTSTART:20260228T193000Z
DTEND:20260228T214500Z
GEO:51.05182;13.80533
LOCATION:CinemaxX\, Hüblerstr. 8\, 01309 Dresden
DESCRIPTION:
URL;VALUE=URI:http://www.public.kika-dresden.de/termin1588002.html
DTSTAMP:20260420T120335Z
UID:69e616172284b
END:VEVENT
END:VCALENDAR