BEGIN:VCALENDAR
VERSION:2.0
PRODID:-//hacksw/handcal//NONSGML v1.0//EN
CALSCALE:GREGORIAN
BEGIN:VEVENT
SUMMARY:Wuthering Heights - Sturmhöhe
DTSTART:20260228T111500Z
DTEND:20260228T140100Z
GEO:51.05182;13.80533
LOCATION:CinemaxX\, Hüblerstr. 8\, 01309 Dresden
DESCRIPTION:
URL;VALUE=URI:http://www.public.kika-dresden.de/termin1587938.html
DTSTAMP:20260424T090010Z
UID:69eb311a9d09c
END:VEVENT
END:VCALENDAR