BEGIN:VCALENDAR
VERSION:2.0
PRODID:-//hacksw/handcal//NONSGML v1.0//EN
CALSCALE:GREGORIAN
BEGIN:VEVENT
SUMMARY:Die drei ??? - Toteninsel
DTSTART:20260225T161000Z
DTEND:20260225T182400Z
GEO:51.08285;13.69562
LOCATION:UCI-Kinowelt\, Lommatzscher Straße 82\, Elbepark\, 01139 Dresden-Mickten
DESCRIPTION:
URL;VALUE=URI:http://www.public.kika-dresden.de/termin1587763.html
DTSTAMP:20260422T001601Z
UID:69e81341766b6
END:VEVENT
END:VCALENDAR