BEGIN:VCALENDAR
VERSION:2.0
PRODID:-//hacksw/handcal//NONSGML v1.0//EN
CALSCALE:GREGORIAN
BEGIN:VEVENT
SUMMARY:Bibi Blocksberg - Das große Hexentreffen
DTSTART:20260228T104500Z
DTEND:20260228T124400Z
GEO:51.04384;13.73755
LOCATION:Cineplex Kristallpalast Dresden\, St. Petersburger Straße 24a\, 01069 Dresden
DESCRIPTION:
URL;VALUE=URI:http://www.public.kika-dresden.de/termin1587481.html
DTSTAMP:20260424T163439Z
UID:69eb9b9fd00bd
END:VEVENT
END:VCALENDAR