BEGIN:VCALENDAR
VERSION:2.0
PRODID:-//hacksw/handcal//NONSGML v1.0//EN
CALSCALE:GREGORIAN
BEGIN:VEVENT
SUMMARY:Zoomania 2
DTSTART:20260221T124500Z
DTEND:20260221T150300Z
GEO:51.07124;13.75051
LOCATION:Filmtheater Schauburg\, Königsbrücker Straße 55\, 01099 Dresden
DESCRIPTION:
URL;VALUE=URI:http://www.public.kika-dresden.de/termin1586908.html
DTSTAMP:20260419T144230Z
UID:69e4e9d6cdef8
END:VEVENT
END:VCALENDAR