BEGIN:VCALENDAR
VERSION:2.0
PRODID:-//hacksw/handcal//NONSGML v1.0//EN
CALSCALE:GREGORIAN
BEGIN:VEVENT
SUMMARY:Der kleine Maulwurf - Seine schönsten Abenteuer
DTSTART:20260207T083000Z
DTEND:20260207T100600Z
GEO:51.07124;13.75051
LOCATION:Filmtheater Schauburg\, Königsbrücker Straße 55\, 01099 Dresden
DESCRIPTION:
URL;VALUE=URI:http://www.public.kika-dresden.de/termin1583621.html
DTSTAMP:20260420T155955Z
UID:69e64d7b6b24d
END:VEVENT
END:VCALENDAR