BEGIN:VCALENDAR
VERSION:2.0
PRODID:-//hacksw/handcal//NONSGML v1.0//EN
CALSCALE:GREGORIAN
BEGIN:VEVENT
SUMMARY:Ach\, diese Lücke\, diese entsetzliche Lücke
DTSTART:20260204T154500Z
DTEND:20260204T183200Z
GEO:51.07124;13.75051
LOCATION:Filmtheater Schauburg\, Königsbrücker Straße 55\, 01099 Dresden
DESCRIPTION:
URL;VALUE=URI:http://www.public.kika-dresden.de/termin1582092.html
DTSTAMP:20260422T004505Z
UID:69e81a118ffa9
END:VEVENT
END:VCALENDAR