BEGIN:VCALENDAR
VERSION:2.0
PRODID:-//hacksw/handcal//NONSGML v1.0//EN
CALSCALE:GREGORIAN
BEGIN:VEVENT
SUMMARY:Ach\, diese Lücke\, diese entsetzliche Lücke
DTSTART:20260204T130000Z
DTEND:20260204T154700Z
GEO:51.07124;13.75051
LOCATION:Filmtheater Schauburg\, Königsbrücker Straße 55\, 01099 Dresden
DESCRIPTION:
URL;VALUE=URI:http://www.public.kika-dresden.de/termin1582091.html
DTSTAMP:20260421T012607Z
UID:69e6d22f393bc
END:VEVENT
END:VCALENDAR