BEGIN:VCALENDAR
VERSION:2.0
PRODID:-//hacksw/handcal//NONSGML v1.0//EN
CALSCALE:GREGORIAN
BEGIN:VEVENT
SUMMARY:The Housemaid - Wenn Sie wüsste
DTSTART:20260201T163000Z
DTEND:20260201T191100Z
GEO:51.05182;13.80533
LOCATION:CinemaxX\, Hüblerstr. 8\, 01309 Dresden
DESCRIPTION:
URL;VALUE=URI:http://www.public.kika-dresden.de/termin1581776.html
DTSTAMP:20260420T062124Z
UID:69e5c5e42571d
END:VEVENT
END:VCALENDAR