BEGIN:VCALENDAR
VERSION:2.0
PRODID:-//hacksw/handcal//NONSGML v1.0//EN
CALSCALE:GREGORIAN
BEGIN:VEVENT
SUMMARY:Ach diese Lücke\, diese entsetzliche Lücke
DTSTART:20260204T131500Z
GEO:51.05182;13.80533
LOCATION:CinemaxX\, Hüblerstr. 8\, 01309 Dresden
DESCRIPTION:
URL;VALUE=URI:http://www.public.kika-dresden.de/termin1581650.html
DTSTAMP:20260421T085409Z
UID:69e73b313ece8
END:VEVENT
END:VCALENDAR