BEGIN:VCALENDAR
VERSION:2.0
PRODID:-//hacksw/handcal//NONSGML v1.0//EN
CALSCALE:GREGORIAN
BEGIN:VEVENT
SUMMARY:Ach diese Lücke\, diese entsetzliche Lücke
DTSTART:20260131T163000Z
GEO:51.05182;13.80533
LOCATION:CinemaxX\, Hüblerstr. 8\, 01309 Dresden
DESCRIPTION:
URL;VALUE=URI:http://www.public.kika-dresden.de/termin1581639.html
DTSTAMP:20260419T143224Z
UID:69e4e7780d423
END:VEVENT
END:VCALENDAR