BEGIN:VCALENDAR
VERSION:2.0
PRODID:-//hacksw/handcal//NONSGML v1.0//EN
CALSCALE:GREGORIAN
BEGIN:VEVENT
SUMMARY:Die Schule der magischen Tiere 4
DTSTART:20260125T091500Z
DTEND:20260125T112700Z
GEO:51.07124;13.75051
LOCATION:Filmtheater Schauburg\, Königsbrücker Straße 55\, 01099 Dresden
DESCRIPTION:
URL;VALUE=URI:http://www.public.kika-dresden.de/termin1580554.html
DTSTAMP:20260423T081602Z
UID:69e9d542221da
END:VEVENT
END:VCALENDAR