BEGIN:VCALENDAR
VERSION:2.0
PRODID:-//hacksw/handcal//NONSGML v1.0//EN
CALSCALE:GREGORIAN
BEGIN:VEVENT
SUMMARY:Der Fremde
DTSTART:20260121T103000Z
DTEND:20260121T130200Z
GEO:51.07124;13.75051
LOCATION:Filmtheater Schauburg\, Königsbrücker Straße 55\, 01099 Dresden
DESCRIPTION:
URL;VALUE=URI:http://www.public.kika-dresden.de/termin1579197.html
DTSTAMP:20260420T193237Z
UID:69e67f55a64c8
END:VEVENT
END:VCALENDAR