BEGIN:VCALENDAR
VERSION:2.0
PRODID:-//hacksw/handcal//NONSGML v1.0//EN
CALSCALE:GREGORIAN
BEGIN:VEVENT
SUMMARY:Bon Voyage - Bis hierher und noch weiter
DTSTART:20260121T110000Z
DTEND:20260121T130700Z
GEO:51.07124;13.75051
LOCATION:Filmtheater Schauburg\, Königsbrücker Straße 55\, 01099 Dresden
DESCRIPTION:
URL;VALUE=URI:http://www.public.kika-dresden.de/termin1579186.html
DTSTAMP:20260421T181604Z
UID:69e7bee45619e
END:VEVENT
END:VCALENDAR