BEGIN:VCALENDAR
VERSION:2.0
PRODID:-//hacksw/handcal//NONSGML v1.0//EN
CALSCALE:GREGORIAN
BEGIN:VEVENT
SUMMARY:Checker Tobi 3 - Die heimliche Herrscherin der Erde
DTSTART:20260121T140000Z
DTEND:20260121T160300Z
GEO:51.07124;13.75051
LOCATION:Filmtheater Schauburg\, Königsbrücker Straße 55\, 01099 Dresden
DESCRIPTION:
URL;VALUE=URI:http://www.public.kika-dresden.de/termin1579175.html
DTSTAMP:20260422T014402Z
UID:69e827e2c36ec
END:VEVENT
END:VCALENDAR