BEGIN:VCALENDAR
VERSION:2.0
PRODID:-//hacksw/handcal//NONSGML v1.0//EN
CALSCALE:GREGORIAN
BEGIN:VEVENT
SUMMARY:Zusatzvorstellung: ROOTS – Eine Hommage an die HipHop-Kultur
DTSTART:20260131T170000Z
GEO:51.07124;13.75051
LOCATION:Filmtheater Schauburg\, Königsbrücker Straße 55\, 01099 Dresden
DESCRIPTION:
URL;VALUE=URI:http://www.public.kika-dresden.de/termin1577630.html
DTSTAMP:20260425T182434Z
UID:69ed06e237409
END:VEVENT
END:VCALENDAR