BEGIN:VCALENDAR
VERSION:2.0
PRODID:-//hacksw/handcal//NONSGML v1.0//EN
CALSCALE:GREGORIAN
BEGIN:VEVENT
SUMMARY:Checker Tobi 3 - Die heimliche Herrscherin der Erde
DTSTART:20260108T142000Z
DTEND:20260108T162300Z
GEO:51.04384;13.73755
LOCATION:Cineplex Kristallpalast Dresden\, St. Petersburger Straße 24a\, 01069 Dresden
DESCRIPTION:
URL;VALUE=URI:http://www.public.kika-dresden.de/termin1577519.html
DTSTAMP:20260420T193206Z
UID:69e67f369b1dd
END:VEVENT
END:VCALENDAR