BEGIN:VCALENDAR
VERSION:2.0
PRODID:-//hacksw/handcal//NONSGML v1.0//EN
CALSCALE:GREGORIAN
BEGIN:VEVENT
SUMMARY:Die Schule der magischen Tiere 4
DTSTART:20260110T084500Z
DTEND:20260110T105700Z
GEO:51.07124;13.75051
LOCATION:Filmtheater Schauburg\, Königsbrücker Straße 55\, 01099 Dresden
DESCRIPTION:
URL;VALUE=URI:http://www.public.kika-dresden.de/termin1577366.html
DTSTAMP:20260419T123759Z
UID:69e4cca79f232
END:VEVENT
END:VCALENDAR