BEGIN:VCALENDAR
VERSION:2.0
PRODID:-//hacksw/handcal//NONSGML v1.0//EN
CALSCALE:GREGORIAN
BEGIN:VEVENT
SUMMARY:Checker Tobi 3 - Die heimliche Herrscherin der Erde
DTSTART:20260108T152000Z
DTEND:20260108T172300Z
GEO:51.04487;13.73697
LOCATION:Rundkino Dresden\, Prager Straße 6\, 01069 Dresden
DESCRIPTION:
URL;VALUE=URI:http://www.public.kika-dresden.de/termin1577153.html
DTSTAMP:20260419T162209Z
UID:69e50131e30af
END:VEVENT
END:VCALENDAR