BEGIN:VCALENDAR
VERSION:2.0
PRODID:-//hacksw/handcal//NONSGML v1.0//EN
CALSCALE:GREGORIAN
BEGIN:VEVENT
SUMMARY:SpongeBob Schwammkopf: Piraten Ahoi!
DTSTART:20260110T144500Z
DTEND:20260110T164400Z
GEO:51.05182;13.80533
LOCATION:CinemaxX\, Hüblerstr. 8\, 01309 Dresden
DESCRIPTION:
URL;VALUE=URI:http://www.public.kika-dresden.de/termin1576884.html
DTSTAMP:20260421T144418Z
UID:69e78d4249cfe
END:VEVENT
END:VCALENDAR