BEGIN:VCALENDAR
VERSION:2.0
PRODID:-//hacksw/handcal//NONSGML v1.0//EN
CALSCALE:GREGORIAN
BEGIN:VEVENT
SUMMARY:Avatar: Fire And Ash
DTSTART:20260107T140000Z
DTEND:20260107T174500Z
GEO:51.08285;13.69562
LOCATION:UCI-Kinowelt\, Lommatzscher Straße 82\, Elbepark\, 01139 Dresden-Mickten
DESCRIPTION:
URL;VALUE=URI:http://www.public.kika-dresden.de/termin1576430.html
DTSTAMP:20260422T125709Z
UID:69e8c5a5f3d7a
END:VEVENT
END:VCALENDAR