BEGIN:VCALENDAR
VERSION:2.0
PRODID:-//hacksw/handcal//NONSGML v1.0//EN
CALSCALE:GREGORIAN
BEGIN:VEVENT
SUMMARY:Bon Voyage - Bis hierher und noch weiter
DTSTART:20260113T151500Z
DTEND:20260113T172200Z
GEO:51.052574;13.721402
LOCATION:Zentralkino\, Kraftwerk Mitte 16\, 01067 Dresden-Mitte
DESCRIPTION:
URL;VALUE=URI:http://www.public.kika-dresden.de/termin1576329.html
DTSTAMP:20260421T085805Z
UID:69e73c1da1eee
END:VEVENT
END:VCALENDAR