BEGIN:VCALENDAR
VERSION:2.0
PRODID:-//hacksw/handcal//NONSGML v1.0//EN
CALSCALE:GREGORIAN
BEGIN:VEVENT
SUMMARY:Lurker
DTSTART:20260107T221500Z
DTEND:20260108T002500Z
GEO:51.07124;13.75051
LOCATION:Filmtheater Schauburg\, Königsbrücker Straße 55\, 01099 Dresden
DESCRIPTION:
URL;VALUE=URI:http://www.public.kika-dresden.de/termin1576297.html
DTSTAMP:20260420T102744Z
UID:69e5ffa0a5a6c
END:VEVENT
END:VCALENDAR