BEGIN:VCALENDAR
VERSION:2.0
PRODID:-//hacksw/handcal//NONSGML v1.0//EN
CALSCALE:GREGORIAN
BEGIN:VEVENT
SUMMARY:Die jüngste Tochter
DTSTART:20260107T194500Z
DTEND:20260107T220800Z
GEO:51.07124;13.75051
LOCATION:Filmtheater Schauburg\, Königsbrücker Straße 55\, 01099 Dresden
DESCRIPTION:
URL;VALUE=URI:http://www.public.kika-dresden.de/termin1576285.html
DTSTAMP:20260421T085409Z
UID:69e73b31b406c
END:VEVENT
END:VCALENDAR