BEGIN:VCALENDAR
VERSION:2.0
PRODID:-//hacksw/handcal//NONSGML v1.0//EN
CALSCALE:GREGORIAN
BEGIN:VEVENT
SUMMARY:Der Fremde
DTSTART:20260107T133000Z
DTEND:20260107T160200Z
GEO:51.07124;13.75051
LOCATION:Filmtheater Schauburg\, Königsbrücker Straße 55\, 01099 Dresden
DESCRIPTION:
URL;VALUE=URI:http://www.public.kika-dresden.de/termin1576270.html
DTSTAMP:20260420T155934Z
UID:69e64d6633e7b
END:VEVENT
END:VCALENDAR