BEGIN:VCALENDAR
VERSION:2.0
PRODID:-//hacksw/handcal//NONSGML v1.0//EN
CALSCALE:GREGORIAN
BEGIN:VEVENT
SUMMARY:Therapie für Wikinger
DTSTART:20260107T121500Z
DTEND:20260107T144100Z
GEO:51.07124;13.75051
LOCATION:Filmtheater Schauburg\, Königsbrücker Straße 55\, 01099 Dresden
DESCRIPTION:
URL;VALUE=URI:http://www.public.kika-dresden.de/termin1576243.html
DTSTAMP:20260422T083221Z
UID:69e8879515d63
END:VEVENT
END:VCALENDAR