BEGIN:VCALENDAR
VERSION:2.0
PRODID:-//hacksw/handcal//NONSGML v1.0//EN
CALSCALE:GREGORIAN
BEGIN:VEVENT
SUMMARY:Želary - Das Dorf Zelary
DTSTART:20260107T190000Z
DTEND:20260107T215200Z
GEO:51.052574;13.721402
LOCATION:Zentralkino\, Kraftwerk Mitte 16\, 01067 Dresden-Mitte
DESCRIPTION:
URL;VALUE=URI:http://www.public.kika-dresden.de/termin1573057.html
DTSTAMP:20260422T014319Z
UID:69e827b79622f
END:VEVENT
END:VCALENDAR