BEGIN:VCALENDAR
VERSION:2.0
PRODID:-//hacksw/handcal//NONSGML v1.0//EN
CALSCALE:GREGORIAN
BEGIN:VEVENT
SUMMARY:Bon Voyage - Bis hierher und noch weiter
DTSTART:20260107T170000Z
DTEND:20260107T190700Z
GEO:51.052574;13.721402
LOCATION:Zentralkino\, Kraftwerk Mitte 16\, 01067 Dresden-Mitte
DESCRIPTION:
URL;VALUE=URI:http://www.public.kika-dresden.de/termin1573042.html
DTSTAMP:20260421T133149Z
UID:69e77c456765c
END:VEVENT
END:VCALENDAR