BEGIN:VCALENDAR
VERSION:2.0
PRODID:-//hacksw/handcal//NONSGML v1.0//EN
CALSCALE:GREGORIAN
BEGIN:VEVENT
SUMMARY:Die Jüngste Tochter
DTSTART:20260107T180000Z
DTEND:20260107T201800Z
GEO:51.052574;13.721402
LOCATION:Zentralkino\, Kraftwerk Mitte 16\, 01067 Dresden-Mitte
DESCRIPTION:
URL;VALUE=URI:http://www.public.kika-dresden.de/termin1573016.html
DTSTAMP:20260421T133136Z
UID:69e77c38be1d6
END:VEVENT
END:VCALENDAR