BEGIN:VCALENDAR
VERSION:2.0
PRODID:-//hacksw/handcal//NONSGML v1.0//EN
CALSCALE:GREGORIAN
BEGIN:VEVENT
SUMMARY:Pettersson und Findus - Das schönste Weihnachten überhaupt
DTSTART:20251224T090000Z
DTEND:20251224T105200Z
GEO:51.07124;13.75051
LOCATION:Filmtheater Schauburg\, Königsbrücker Straße 55\, 01099 Dresden
DESCRIPTION:
URL;VALUE=URI:http://www.public.kika-dresden.de/termin1572741.html
DTSTAMP:20260421T040921Z
UID:69e6f87108dde
END:VEVENT
END:VCALENDAR