BEGIN:VCALENDAR
VERSION:2.0
PRODID:-//hacksw/handcal//NONSGML v1.0//EN
CALSCALE:GREGORIAN
BEGIN:VEVENT
SUMMARY:Der kleine Maulwurf - Seine schönsten Abenteuer
DTSTART:20251222T101500Z
DTEND:20251222T115100Z
GEO:51.07124;13.75051
LOCATION:Filmtheater Schauburg\, Königsbrücker Straße 55\, 01099 Dresden
DESCRIPTION:
URL;VALUE=URI:http://www.public.kika-dresden.de/termin1572734.html
DTSTAMP:20260422T125654Z
UID:69e8c596ea316
END:VEVENT
END:VCALENDAR