BEGIN:VCALENDAR
VERSION:2.0
PRODID:-//hacksw/handcal//NONSGML v1.0//EN
CALSCALE:GREGORIAN
BEGIN:VEVENT
SUMMARY:Franz K.
DTSTART:20251218T104500Z
DTEND:20251218T132300Z
GEO:51.07124;13.75051
LOCATION:Filmtheater Schauburg\, Königsbrücker Straße 55\, 01099 Dresden
DESCRIPTION:
URL;VALUE=URI:http://www.public.kika-dresden.de/termin1572569.html
DTSTAMP:20260421T205442Z
UID:69e7e4124b5fd
END:VEVENT
END:VCALENDAR