BEGIN:VCALENDAR
VERSION:2.0
PRODID:-//hacksw/handcal//NONSGML v1.0//EN
CALSCALE:GREGORIAN
BEGIN:VEVENT
SUMMARY:Five Nights at Freddy's 2
DTSTART:20251218T170000Z
DTEND:20251218T191400Z
GEO:51.04384;13.73755
LOCATION:Cineplex Kristallpalast Dresden\, St. Petersburger Straße 24a\, 01069 Dresden
DESCRIPTION:
URL;VALUE=URI:http://www.public.kika-dresden.de/termin1572471.html
DTSTAMP:20260421T144430Z
UID:69e78d4e5e38c
END:VEVENT
END:VCALENDAR