BEGIN:VCALENDAR
VERSION:2.0
PRODID:-//hacksw/handcal//NONSGML v1.0//EN
CALSCALE:GREGORIAN
BEGIN:VEVENT
SUMMARY:THE CURE: THE SHOW OF A LOST WORLD
DTSTART:20251213T191500Z
DTEND:20251213T223200Z
GEO:51.07124;13.75051
LOCATION:Filmtheater Schauburg\, Königsbrücker Straße 55\, 01099 Dresden
DESCRIPTION:
URL;VALUE=URI:http://www.public.kika-dresden.de/termin1571127.html
DTSTAMP:20260425T221125Z
UID:69ed3c0d48558
END:VEVENT
END:VCALENDAR