BEGIN:VCALENDAR
VERSION:2.0
PRODID:-//hacksw/handcal//NONSGML v1.0//EN
CALSCALE:GREGORIAN
BEGIN:VEVENT
SUMMARY:Ein Leben ohne Liebe ist möglich\, aber sinnlos
DTSTART:20251216T174500Z
DTEND:20251216T195600Z
GEO:51.052574;13.721402
LOCATION:Zentralkino\, Kraftwerk Mitte 16\, 01067 Dresden-Mitte
DESCRIPTION:
URL;VALUE=URI:http://www.public.kika-dresden.de/termin1569444.html
DTSTAMP:20260421T040814Z
UID:69e6f82eece71
END:VEVENT
END:VCALENDAR