BEGIN:VCALENDAR
VERSION:2.0
PRODID:-//hacksw/handcal//NONSGML v1.0//EN
CALSCALE:GREGORIAN
BEGIN:VEVENT
SUMMARY:Pumuckl und das große Missverständnis
DTSTART:20251119T093000Z
DTEND:20251119T113800Z
GEO:51.07124;13.75051
LOCATION:Filmtheater Schauburg\, Königsbrücker Straße 55\, 01099 Dresden
DESCRIPTION:
URL;VALUE=URI:http://www.public.kika-dresden.de/termin1564289.html
DTSTAMP:20260423T090319Z
UID:69e9e0572bc3f
END:VEVENT
END:VCALENDAR