BEGIN:VCALENDAR
VERSION:2.0
PRODID:-//hacksw/handcal//NONSGML v1.0//EN
CALSCALE:GREGORIAN
BEGIN:VEVENT
SUMMARY:Die My Love
DTSTART:20251117T200000Z
DTEND:20251117T222900Z
GEO:51.07124;13.75051
LOCATION:Filmtheater Schauburg\, Königsbrücker Straße 55\, 01099 Dresden
DESCRIPTION:
URL;VALUE=URI:http://www.public.kika-dresden.de/termin1564245.html
DTSTAMP:20260421T165015Z
UID:69e7aac77b53c
END:VEVENT
END:VCALENDAR