BEGIN:VCALENDAR
VERSION:2.0
PRODID:-//hacksw/handcal//NONSGML v1.0//EN
CALSCALE:GREGORIAN
BEGIN:VEVENT
SUMMARY:One Battle After Another
DTSTART:20251117T211500Z
DTEND:20251118T002700Z
GEO:51.07124;13.75051
LOCATION:Filmtheater Schauburg\, Königsbrücker Straße 55\, 01099 Dresden
DESCRIPTION:
URL;VALUE=URI:http://www.public.kika-dresden.de/termin1564233.html
DTSTAMP:20260421T085614Z
UID:69e73bae3f8f5
END:VEVENT
END:VCALENDAR