BEGIN:VCALENDAR
VERSION:2.0
PRODID:-//hacksw/handcal//NONSGML v1.0//EN
CALSCALE:GREGORIAN
BEGIN:VEVENT
SUMMARY:Checker Tobi 3 - Die heimliche Herrscherin der Erde
DTSTART:20251206T090000Z
DTEND:20251206T110300Z
GEO:51.07124;13.75051
LOCATION:Filmtheater Schauburg\, Königsbrücker Straße 55\, 01099 Dresden
DESCRIPTION:Gäste
URL;VALUE=URI:http://www.public.kika-dresden.de/termin1561536.html
DTSTAMP:20260419T170558Z
UID:69e50b769d6e1
END:VEVENT
END:VCALENDAR