BEGIN:VCALENDAR
VERSION:2.0
PRODID:-//hacksw/handcal//NONSGML v1.0//EN
CALSCALE:GREGORIAN
BEGIN:VEVENT
SUMMARY:Good Fortune - Ein ganz spezieller Schutzengel
DTSTART:20251103T221500Z
DTEND:20251104T002400Z
GEO:51.07124;13.75051
LOCATION:Filmtheater Schauburg\, Königsbrücker Straße 55\, 01099 Dresden
DESCRIPTION:
URL;VALUE=URI:http://www.public.kika-dresden.de/termin1560768.html
DTSTAMP:20260421T085904Z
UID:69e73c5878477
END:VEVENT
END:VCALENDAR