BEGIN:VCALENDAR
VERSION:2.0
PRODID:-//hacksw/handcal//NONSGML v1.0//EN
CALSCALE:GREGORIAN
BEGIN:VEVENT
SUMMARY:Lustiges Pettersson und Findus Mitmachkino
DTSTART:20251025T080000Z
DTEND:20251025T092900Z
GEO:51.07124;13.75051
LOCATION:Filmtheater Schauburg\, Königsbrücker Straße 55\, 01099 Dresden
DESCRIPTION:
URL;VALUE=URI:http://www.public.kika-dresden.de/termin1558851.html
DTSTAMP:20260424T021821Z
UID:69ead2ed70f9c
END:VEVENT
END:VCALENDAR