BEGIN:VCALENDAR
VERSION:2.0
PRODID:-//hacksw/handcal//NONSGML v1.0//EN
CALSCALE:GREGORIAN
BEGIN:VEVENT
SUMMARY:Jane Austen und das Chaos in meinem Leben
DTSTART:20251021T164500Z
DTEND:20251021T185300Z
GEO:51.052574;13.721402
LOCATION:Zentralkino\, Kraftwerk Mitte 16\, 01067 Dresden-Mitte
DESCRIPTION:
URL;VALUE=URI:http://www.public.kika-dresden.de/termin1555367.html
DTSTAMP:20260421T205447Z
UID:69e7e4174541f
END:VEVENT
END:VCALENDAR